View In:
ArcGIS JavaScript
ArcGIS Online Map Viewer
ArcGIS Earth
ArcMap
View Footprint In:
ArcGIS Online Map Viewer
Service Description: This free, publically available base layer imagery is a whole of State layer configured as a flattened and seamless single service. It can be used as a background in conjunction with other data services to provide a spatial reference and contains 1:100,000 aerial imagery tiles, regional and town site/Aboriginal Community mosaics that are a minimum of 400 days old.
Name: SLIP_Public_Services/Locate
Description: This free, publically available base layer imagery is a whole of State layer configured as a flattened and seamless single service. It can be used as a background in conjunction with other data services to provide a spatial reference and contains 1:100,000 aerial imagery tiles, regional and town site/Aboriginal Community mosaics that are a minimum of 400 days old.
Single Fused Map Cache: false
Extent:
XMin: 96.79394282300007
YMin: -35.31342720399998
XMax: 129.81262262300007
YMax: -10.40955960399998
Spatial Reference: 7844
(7844)
LatestVCSWkid(0)
Initial Extent:
XMin: 96.79394282300007
YMin: -35.31342720399998
XMax: 129.81262262300007
YMax: -10.40955960399998
Spatial Reference: 7844
(7844)
LatestVCSWkid(0)
Full Extent:
XMin: 96.79394282300007
YMin: -35.31342720399998
XMax: 129.81262262300007
YMax: -10.40955960399998
Spatial Reference: 7844
(7844)
LatestVCSWkid(0)
Pixel Size X: 4.5000000000000003E-7
Pixel Size Y: 4.5E-7
Band Count: 3
Pixel Type: U8
RasterFunction Infos: {"rasterFunctionInfos": [{
"name": "None",
"description": "A No-Op Function.",
"help": ""
}]}
Mensuration Capabilities:
Has Histograms: true
Has Colormap: false
Has Multi Dimensions : false
Rendering Rule:
Min Scale: 0
Max Scale: 0
Copyright Text:
Service Data Type: esriImageServiceDataTypeRGB
Min Values: 0, 0, 5
Max Values: 255, 255, 255
Mean Values: 150.87430580749927, 116.42845669882263, 91.97301990406038
Standard Deviation Values: 62.108121441131665, 36.34624379534694, 23.7265083842625
Object ID Field: objectid
Fields:
-
objectid
(
type: esriFieldTypeOID, alias: objectid
)
-
name
(
type: esriFieldTypeString, alias: name, length: 200
)
-
minps
(
type: esriFieldTypeDouble, alias: minps
)
-
maxps
(
type: esriFieldTypeDouble, alias: maxps
)
-
lowps
(
type: esriFieldTypeDouble, alias: lowps
)
-
highps
(
type: esriFieldTypeDouble, alias: highps
)
-
category
(
type: esriFieldTypeInteger, alias: category
, Coded Values:
[0: Unknown]
, [1: Primary]
, [2: Overview]
, ...5 more...
)
-
tag
(
type: esriFieldTypeString, alias: tag, length: 100
)
-
groupname
(
type: esriFieldTypeString, alias: groupname, length: 100
)
-
productname
(
type: esriFieldTypeString, alias: productname, length: 100
)
-
centerx
(
type: esriFieldTypeDouble, alias: centerx
)
-
centery
(
type: esriFieldTypeDouble, alias: centery
)
-
zorder
(
type: esriFieldTypeInteger, alias: zorder
)
-
ground_resolution
(
type: esriFieldTypeDouble, alias: ground_resolution
)
-
capture_start_date
(
type: esriFieldTypeDate, alias: capture_start_date, length: 8
)
-
capture_finish_date
(
type: esriFieldTypeDate, alias: capture_finish_date, length: 8
)
-
capture_date_text
(
type: esriFieldTypeString, alias: capture_date_text, length: 255
)
-
location_text
(
type: esriFieldTypeString, alias: location_text, length: 255
)
-
accuracy_in_meters
(
type: esriFieldTypeDouble, alias: accuracy_in_meters
)
-
project_classification
(
type: esriFieldTypeString, alias: project_classification, length: 255
)
-
status
(
type: esriFieldTypeString, alias: status, length: 255
)
-
namelink
(
type: esriFieldTypeString, alias: namelink, length: 255
)
-
shape
(
type: esriFieldTypeGeometry, alias: shape
)
Default Mosaic Method: Northwest
Allowed Mosaic Methods: NorthWest,Center,LockRaster,ByAttribute,Nadir,Viewpoint,Seamline,None
SortField:
SortValue: null
Mosaic Operator: First
Default Compression Quality: 75
Default Resampling Method: Bilinear
Max Record Count: 1000
Max Image Height: 4100
Max Image Width: 15000
Max Download Image Count: 1000
Max Mosaic Image Count: 1000
Allow Raster Function: true
Allow Copy: true
Allow Analysis: true
Allow Compute TiePoints: false
Supports Statistics: true
Supports Advanced Queries: true
Use StandardizedQueries: true
Raster Type Infos:
Name: Raster Dataset
Description: Supports all ArcGIS Raster Datasets
Help:
Has Raster Attribute Table: false
Edit Fields Info: null
Ownership Based AccessControl For Rasters: null
Child Resources:
Info
Histograms
Statistics
Key Properties
Legend
Raster Function Infos
Supported Operations:
Export Image
Query
Identify
Compute Histograms
Compute Statistics Histograms
Get Samples
Compute Class Statistics
Query Boundary
Compute Pixel Location
Compute Angles
Validate
Project